BEGIN:VCALENDAR
VERSION:2.0
PRODID:-//Bloom &amp; Grow - ECPv6.15.20//NONSGML v1.0//EN
CALSCALE:GREGORIAN
METHOD:PUBLISH
X-WR-CALNAME:Bloom &amp; Grow
X-ORIGINAL-URL:https://bloomandgrow.in
X-WR-CALDESC:Events for Bloom &amp; Grow
REFRESH-INTERVAL;VALUE=DURATION:PT1H
X-Robots-Tag:noindex
X-PUBLISHED-TTL:PT1H
BEGIN:VTIMEZONE
TZID:Asia/Kolkata
BEGIN:STANDARD
TZOFFSETFROM:+0530
TZOFFSETTO:+0530
TZNAME:IST
DTSTART:20160101T000000
END:STANDARD
END:VTIMEZONE
BEGIN:VTIMEZONE
TZID:UTC
BEGIN:STANDARD
TZOFFSETFROM:+0000
TZOFFSETTO:+0000
TZNAME:UTC
DTSTART:20150101T000000
END:STANDARD
END:VTIMEZONE
BEGIN:VEVENT
DTSTART;TZID=Asia/Kolkata:20170211T140000
DTEND;TZID=Asia/Kolkata:20170211T160000
DTSTAMP:20260420T222830
CREATED:20170120T080839Z
LAST-MODIFIED:20170208T120612Z
UID:1623-1486821600-1486828800@bloomandgrow.in
SUMMARY:Valentine's special 'Black forest' Candle making
DESCRIPTION:“LOVE IS ALL ABOUT GIVING & A GIFT FROM THE HEART ❤️ IS NOT PURCHASED AT THE STORE OR ORDERED ONLINE” \nSo\, Surprise your Loved one this ‘Valentines Day’ by making it Super Scent-Sational where you Bake… Oops Make an Exotic Zero calorie Yummylicious “Black Forest Cake Candle” in MEEHRR’S CANDLEMAKING WORKSHOP\, just for them. Its indeed A Sinful Dessert Candle which looks like a Cake but is purely A sinful guiltfree indulgence !! \nYeah… A unique chance to learn Meehrr’s Yummylicious Zero Calorie Exotic Cake candle from its Dessert range featured in the leading newspaper “Deccan herald” recently !! \nDate :- 11th Feb Saturday \nTime:- 2pm-4pm \nVenue:- Bloom & Grow (koramangala) \nWorkshop fees # ₹1\,200/- \nALL THE RAW MATERIAL IS PROVIDED \n#valentinesdaytreat #Dessertcandle #Datenight #Hotseller #Meehrrhandcraftedcandles #Deccanherald #Guiltfreeindulgence #Sinfulcandle ❤
URL:https://bloomandgrow.in/event/valentines-special-black-forest-candle-making/
LOCATION:Studio Pepperfry\, JP Nagar\, 279\, 100 Feet Road\, 15th Cross\, 5th Phase J.P. Nagar\, Next to Nexa Showroom\, KR Layout\, JP Nagar Phase 6\, JP Nagar\,\, Bangalore\, 560078\, India
CATEGORIES:Candle Making,Workshops
ATTACH;FMTTYPE=image/jpeg:https://bloomandgrow.in/wp-content/uploads/2017/01/facebook_event_290893317980181.jpg
END:VEVENT
BEGIN:VEVENT
DTSTART;TZID=Asia/Kolkata:20170115T110000
DTEND;TZID=Asia/Kolkata:20170115T140000
DTSTAMP:20260420T222830
CREATED:20161226T053923Z
LAST-MODIFIED:20170109T115036Z
UID:1393-1484478000-1484488800@bloomandgrow.in
SUMMARY:Candlemaking for beginners (Gel shots\, Water and Marble)
DESCRIPTION:Have you wondered how Beautiful Scented Candles are made or enjoy their presence in your homes !! \nWell join us for a One day unique Sweet smelling weekend workshop of learning to make your very own Aromatic Handcrafted candles with Rameet Kaur of #Meehrrhandcraftedcandles http://www.facebook.com/MEEHRR.handcrafted.candles in Meehrr’s Candle making workshop for Beginners. \nDesigned for everyone over the age of 6 yrs ; create your very own candles as per demonstrations & guidelines of the instructor. Patiently wait to unmould your masterpieces while you enjoy and get rejuvenated with this Therapeutic Art !!\nYou leave the workshop with a unique array of Handcrafted candles to proudly display at homes & confident to create many more candle making masterpieces.. \nIn this 3 hour Scent-sational workshop we make :- \n1) Chunks/Marble candle\n2) Water candle\n3) Gel shots \nDate :- 15 Jan (Sunday)\nTime :- 11am-2pm\nVenue :- Bloom & Grow (Koramangala) \nWorkshop fees ₹1\,500/- \nAll the raw material is provided. \nClass size is limited so always fills up fast.\nTo register – bloomandgrow.in \nMail – rameetahluwalia@gmail.com for further queries
URL:https://bloomandgrow.in/event/candlemaking-for-beginners-gel-shots-water-and-marble/
LOCATION:Studio Pepperfry\, JP Nagar\, 279\, 100 Feet Road\, 15th Cross\, 5th Phase J.P. Nagar\, Next to Nexa Showroom\, KR Layout\, JP Nagar Phase 6\, JP Nagar\,\, Bangalore\, 560078\, India
CATEGORIES:Candle Making,Classes
ATTACH;FMTTYPE=image/jpeg:https://bloomandgrow.in/wp-content/uploads/2016/12/facebook_event_1633912353577837.jpg
END:VEVENT
BEGIN:VEVENT
DTSTART;TZID=UTC:20161023T110000
DTEND;TZID=UTC:20161023T140000
DTSTAMP:20260420T222830
CREATED:20161020T091951Z
LAST-MODIFIED:20170418T131813Z
UID:1059-1477220400-1477231200@bloomandgrow.in
SUMMARY:Diwali special candle making workshop
DESCRIPTION:Sparkling candles look very charming and attractive….the glory of these sparkles\,make Diwali truly bright and sparkling So lets Illuminate & fill up our ambience with a soothing fragrance and boost up the festive spirit of our family with the lights of joy !! \nIn this 3 hour Illuminating workshop we shall make :- \n1)Rose Barfi Candle :- \nTake a bite .. Oops light this very decadent looking Sweet Barfi candles. This unique looking candle makes for an Amazing Diwali gift which is why people love to give and receive them and not to forget it is Zero calorie too !! \n2)Lantern Candle :- \nA very unique candle which will light up your indoor or outdoor space no sooner its lit. You get to learn a technique of making your very own Container candle and work with your choice of containers. \n3)Gel Diya candle :- \nThis Gorgeous candle makes for a beautiful centerpiece and sure to light up your home with its vibrant colours & intoxicating smells creating that peaceful & calming effect adding to the festive spirit. \nDate :- 23rd October (Sunday) \nVenue :- Bloom & Grow (Koramangala) \nTime :- 11am – 2pm \nWorkshop fees # ₹1\,900/- \nAll the Raw material is provided. \nPlease do visit my Fb page to check glimpses of Meehrrs workshops :-http://www.facebook.com/MEEHRR.handcrafted.candles\nClass size is limited so fills up fast. To avoid dissapointments block your seat now by sms or call on 9342818593 or email rameetahluwalia@gmail.com
URL:https://bloomandgrow.in/event/diwali-special-candle-making-workshop/
LOCATION:Bloom & Grow 2nd floor\, 17 D main\, Koramangala 6th block\, Bangalore\, Karnataka\, 560034\, India
CATEGORIES:Candle Making,Classes
ATTACH;FMTTYPE=image/jpeg:https://bloomandgrow.in/wp-content/uploads/2016/10/14359078_1862802987283318_5447362572304553349_n-1.jpg
END:VEVENT
END:VCALENDAR