BEGIN:VCALENDAR
VERSION:2.0
PRODID:-//Bloom &amp; Grow - ECPv6.15.20//NONSGML v1.0//EN
CALSCALE:GREGORIAN
METHOD:PUBLISH
X-WR-CALNAME:Bloom &amp; Grow
X-ORIGINAL-URL:https://bloomandgrow.in
X-WR-CALDESC:Events for Bloom &amp; Grow
REFRESH-INTERVAL;VALUE=DURATION:PT1H
X-Robots-Tag:noindex
X-PUBLISHED-TTL:PT1H
BEGIN:VTIMEZONE
TZID:UTC
BEGIN:STANDARD
TZOFFSETFROM:+0000
TZOFFSETTO:+0000
TZNAME:UTC
DTSTART:20190101T000000
END:STANDARD
END:VTIMEZONE
BEGIN:VTIMEZONE
TZID:Asia/Kolkata
BEGIN:STANDARD
TZOFFSETFROM:+0530
TZOFFSETTO:+0530
TZNAME:IST
DTSTART:20160101T000000
END:STANDARD
END:VTIMEZONE
BEGIN:VEVENT
DTSTART;TZID=UTC:20200510T150000
DTEND;TZID=UTC:20200510T170000
DTSTAMP:20260421T002504
CREATED:20200504T130554Z
LAST-MODIFIED:20200506T033649Z
UID:10119-1589122800-1589130000@bloomandgrow.in
SUMMARY:Paper Flower Making - Online Session
DESCRIPTION:Paper Flower Making – Online Session\n\nAn easy flower making session for kids and adults\nNo prior knowledge required\n\nYou will learn how to make 5 kinds of flowers\, the design sheet will be sent for you’ll to trace\, even if you are not able to get a printout\, the freehand design would also work.\nThese beautiful flowers can be used for scrapbooking and upcycling projects\, or for amazing card making and even as a jewellery piece.\n\nMaterials required:\n1. Drawing book paper/Cartridge sheets/Floral paper (White & Color)\n2. Acrylic paints\, distress inks/ Spray mists/ Soft pastels basically anything to color with\n3. Ball tool / Embossing tool / Thick bulky pen as a substitute\n4. Embossing pad / Old soft Diary / Thick towel\n5. Pearls/beads/pollen fillers\n6. Water mist spray / A bowl of water\n7. Fevicol\nDate: 10th May\, 2020\nDays: Sunday\nTime: 3 pm to 5 pm (IST)\nFee: Rs 500 per person (Inclusive of GST and convenience charges)\nVenue: Online classes on Zoom \nPayment link: https://rzp.io/l/J7WLigL \nTo stay updated with the sessions\, join WhatsApp group with the link https://chat.whatsapp.com/HKDsGqJSWGgBtDENOcMVea \nAbout Bloom and Grow: \nBloom & Grow facilitates artist-led art & craft workshops in studios and also\, conducts art based corporate workshops across India.
URL:https://bloomandgrow.in/event/paper-flower-making-online-session/
CATEGORIES:Flower making,Online/Live Workshops
ATTACH;FMTTYPE=image/jpeg:https://bloomandgrow.in/wp-content/uploads/2020/05/flower-making-clg-e1588597485308.jpeg
END:VEVENT
BEGIN:VEVENT
DTSTART;TZID=Asia/Kolkata:20170618T100000
DTEND;TZID=Asia/Kolkata:20170618T140000
DTSTAMP:20260421T002504
CREATED:20170603T143824Z
LAST-MODIFIED:20170607T121050Z
UID:2543-1497780000-1497794400@bloomandgrow.in
SUMMARY:Silk Ribbon embroidery on Bags
DESCRIPTION:Silk Ribbon embroidery on Bags\nLearn a romantic art form – Silk Ribbon Embroidery\, to create beautiful floral motifs\, decorative stitch patterns and accessories.\nWith simple stitches and a satisfying process\, even a novice embroiderer can create elegant floral arrangements and beautiful patterns.\nIn this workshop\, you’ll learn how to make a simple\, functional and elegant sling bag\, and how to customise it using Ribbon Embroidery to reflect your style and creativity.\nFurther\, you’ll understand basics of ribbon embroidery\, and will be able accessorize tops\, hand kerchiefs\, pendants\, chokers etc.\nBest of all\, you will take home a beautiful sling bag and equipment used to make it.\nDate – 18 June 2017\nFees: Rs.2\,449/-\nVenue: Bloom & Grow\nTime: 10:00am-2:00pm\nRegister: bloomandgrow.in \nPre registration is mandatory! Please confirm your participation by paying in advance. \nFor queries please contact +91-9844814482
URL:https://bloomandgrow.in/event/silk-ribbon-embroidery-on-bags/
LOCATION:Studio Pepperfry\, JP Nagar\, 279\, 100 Feet Road\, 15th Cross\, 5th Phase J.P. Nagar\, Next to Nexa Showroom\, KR Layout\, JP Nagar Phase 6\, JP Nagar\,\, Bangalore\, 560078\, India
CATEGORIES:Classes,DIY,embroidery,Flower making,Workshops
ATTACH;FMTTYPE=image/jpeg:https://bloomandgrow.in/wp-content/uploads/2017/06/facebook_event_1723909024292126.jpg
END:VEVENT
BEGIN:VEVENT
DTSTART;TZID=Asia/Kolkata:20170326T143000
DTEND;TZID=Asia/Kolkata:20170326T183000
DTSTAMP:20260421T002504
CREATED:20170302T063049Z
LAST-MODIFIED:20170326T053532Z
UID:2031-1490538600-1490553000@bloomandgrow.in
SUMMARY:Handmade Paper Flowers Workshop
DESCRIPTION:How to Make Handmade Paper Flowers??\nWhy buy\, when you can make one!!!\nLearn to make these super gorgeous flowers made of watercolour paper. Really easy and super quick to make. Come join us for a fun filled class and make 8 beautiful flowers to use in your crafting projects.These go well with any project – Be it Decoupage\, Scrapbooking\, Card making\, Gift Tags\, Mixed Media!!!!! \nDate 26th March\, 2017\nTiming 2:30 to 6:30 pm\nFees 2\,500/- (Inclusive of all material)\nTrainer – Jasmine Siddiqui \n*Event rescheduled \n 
URL:https://bloomandgrow.in/event/handmade-flower-making-workshop/
LOCATION:Studio Pepperfry\, JP Nagar\, 279\, 100 Feet Road\, 15th Cross\, 5th Phase J.P. Nagar\, Next to Nexa Showroom\, KR Layout\, JP Nagar Phase 6\, JP Nagar\,\, Bangalore\, 560078\, India
CATEGORIES:Flower making,Workshops
ATTACH;FMTTYPE=image/jpeg:https://bloomandgrow.in/wp-content/uploads/2017/03/facebook_event_1214353918678369.jpg
END:VEVENT
END:VCALENDAR