BEGIN:VCALENDAR
VERSION:2.0
PRODID:-//Bloom &amp; Grow - ECPv6.15.20//NONSGML v1.0//EN
CALSCALE:GREGORIAN
METHOD:PUBLISH
X-ORIGINAL-URL:https://bloomandgrow.in
X-WR-CALDESC:Events for Bloom &amp; Grow
REFRESH-INTERVAL;VALUE=DURATION:PT1H
X-Robots-Tag:noindex
X-PUBLISHED-TTL:PT1H
BEGIN:VTIMEZONE
TZID:UTC
BEGIN:STANDARD
TZOFFSETFROM:+0000
TZOFFSETTO:+0000
TZNAME:UTC
DTSTART:20190101T000000
END:STANDARD
END:VTIMEZONE
BEGIN:VTIMEZONE
TZID:Asia/Kolkata
BEGIN:STANDARD
TZOFFSETFROM:+0530
TZOFFSETTO:+0530
TZNAME:IST
DTSTART:20160101T000000
END:STANDARD
END:VTIMEZONE
BEGIN:VEVENT
DTSTART;TZID=UTC:20200223T100000
DTEND;TZID=UTC:20200223T140000
DTSTAMP:20260421T141701
CREATED:20191227T081111Z
LAST-MODIFIED:20200129T053301Z
UID:9467-1582452000-1582466400@bloomandgrow.in
SUMMARY:Wire weaving workshop for Beginners' in Bangalore
DESCRIPTION:Wire weaving workshop in Bangalore for Beginners’ \nJoin in for learning this beautiful technique which is not only creative but a meditative process too. \nUnwind while winding wires over and again\, mindfully. \nWhat you’ll learn-\n1. Learn few basics about wires\, gauges\, softness\, procuring\,etc\n2. Learn some of the basic wire weaving techniques and to start a project from scratch.\n3. You’ll make a finger ring at the end of the workshop and That’s your takeaway\n4. All the materials needed for workshop shall be provided.\n5. If you are a quick learner\, do feel free to start next pendant or finger ring and do get guided over and that too is your takeaway. \nDo you need to know jewellery making?\nNot really\, but a hands on with any kind of craft/art activity would make the learning process easy. \nTake away:\nAll that you need to know to practice wire wrapping to make your own jewelry.\nFinger ring and/or pendant that you do during the workshop is all yours! \nAge limit : 15-55\, Rather those with good wrist and hand strength and the spirit to learn should do :). \nDay & Date: Sunday\, 23rd February 2020\nTimings: 10 am to 2 pm\nFees: Rs 1500 per person (includes all material)\nBooking fee: Rs 500 per person (Balance of Rs 1000 to be paid at the venue)\nVenue: Bloom and Grow\, Koramangala. \nAbout Bloom and Grow: \n\n\n\n\nBloom & Grow facilitates artist-led art & craft workshops in studios and also\, conducts art based corporate workshops across India.
URL:https://bloomandgrow.in/event/wire-weaving-workshop-for-beginners-in-bangalore/
LOCATION:Bloom and Grow\, Koramangala\, Jayanagar\, Bangalore\, India
CATEGORIES:Jewellery Making,Wire Jewellry
ATTACH;FMTTYPE=image/jpeg:https://bloomandgrow.in/wp-content/uploads/2019/12/wire-weaving-e1577434244937.jpeg
END:VEVENT
BEGIN:VEVENT
DTSTART;TZID=Asia/Kolkata:20170715T140000
DTEND;TZID=Asia/Kolkata:20170716T190000
DTSTAMP:20260421T141701
CREATED:20170625T185045Z
LAST-MODIFIED:20170628T162004Z
UID:2653-1500127200-1500231600@bloomandgrow.in
SUMMARY:Two day workshop on Wire Jewellery making
DESCRIPTION:A two day workshop on Wire Jewellery making by Widad Mogral \nThe workshop will introduce you to marking tools\, hammering wire\, forming loops\, wrapped loops\, closed spirals\, open spirals\, weaving with wire\, wrapping beads\, making earring hooks\, neatly finished wire jewellery\, trimming ends\, fining sharp points etc. \nYou also get to learn basic properties of metal\, work hardening\, softness\, hardness\, annealing. One gets to work on different wire gauges\, different types of metal – coloured and non coloured metal.\nAll materials needed for the workshop i.e. wire and beads etc will be provided.\nYou will take away neatly finished jewellery pieces. In addition\, tools (round nose pliers\, straight cutting pliers\, top cutting pliers) and a few metres of wires of different gauges in copper and brass can be taken home. \nCost: Rs 4\,000 per participant (inclusive of all material needed for the workshop)\nPre-requisite: Participants should have some familiarity and prior experience with bead jewellery making\nTrainer: Widad Mogral\nVenue: Bloom & Grow\, Koramangala
URL:https://bloomandgrow.in/event/two-day-workshop-wire-jewellery-making/
LOCATION:Studio Pepperfry\, JP Nagar\, 279\, 100 Feet Road\, 15th Cross\, 5th Phase J.P. Nagar\, Next to Nexa Showroom\, KR Layout\, JP Nagar Phase 6\, JP Nagar\,\, Bangalore\, 560078\, India
CATEGORIES:Wire Jewellry
ATTACH;FMTTYPE=image/jpeg:https://bloomandgrow.in/wp-content/uploads/2017/06/facebook_event_118577932077650.jpg
END:VEVENT
END:VCALENDAR