BEGIN:VCALENDAR
VERSION:2.0
PRODID:-//Bloom &amp; Grow - ECPv6.15.20//NONSGML v1.0//EN
CALSCALE:GREGORIAN
METHOD:PUBLISH
X-ORIGINAL-URL:https://bloomandgrow.in
X-WR-CALDESC:Events for Bloom &amp; Grow
REFRESH-INTERVAL;VALUE=DURATION:PT1H
X-Robots-Tag:noindex
X-PUBLISHED-TTL:PT1H
BEGIN:VTIMEZONE
TZID:UTC
BEGIN:STANDARD
TZOFFSETFROM:+0000
TZOFFSETTO:+0000
TZNAME:UTC
DTSTART:20150101T000000
END:STANDARD
END:VTIMEZONE
BEGIN:VTIMEZONE
TZID:Asia/Kolkata
BEGIN:STANDARD
TZOFFSETFROM:+0530
TZOFFSETTO:+0530
TZNAME:IST
DTSTART:20150101T000000
END:STANDARD
END:VTIMEZONE
BEGIN:VEVENT
DTSTART;TZID=UTC:20200208T103000
DTEND;TZID=UTC:20200208T140000
DTSTAMP:20260421T084854
CREATED:20191224T054351Z
LAST-MODIFIED:20200113T161936Z
UID:9389-1581157800-1581170400@bloomandgrow.in
SUMMARY:Mural - Placid lake painting workshop for Beginners'
DESCRIPTION:Mural – Placid lake painting – Beginners’ workshop in Bangalore \nHave you been longing to combine colours\, textures\, and elements? Perfect! Then this workshop is just for you. Join us on this day and we will introduce you to Mixed media Mural – Placid Lake Painting\, an art form where more than one medium is employed to create a magnificent final piece. \nWhat can you expect from the workshop: \n\nLearn how to achieve a stained glass effect on canvas.\nExperiment with Mixed Media techniques.\nPractical hands-on workshop.\nStep-by-step demonstration and guidance by the trainer.\nReach the next level of artistic confidence.\n\nTake back a beautiful handmade mural and great memories. \nArtist: Shareen Rodrigues \nAge: 10 years & above (No prior experience with art is mandatory) \n\n\n\nDate: 8th February\, 2020 \n\n\n\n\nDay: Saturday\nTime: 10.30 am – 2 pm\nFee: Rs 1000 per person (Including all art-related materials)\nBooking fee: Rs 500 per person (Balance amount of Rs 500 to be paid at the venue)\nVenue: Bloom and Grow\, Koramangala\n\n\nNote: Participants need to register by paying the booking amount and balance at the venue. Alternatively\, you can pay full fees online. Please note DO NOT pay both booking fees and full fees.\n\n\n\n\n\nAbout Bloom and Grow:\n\n\nBloom & Grow facilitates artist-led art & craft workshops in studios and also\, conducts art based corporate workshops across India.
URL:https://bloomandgrow.in/event/mural-placid-lake-painting-workshop-for-beginners-in-bangalore/
LOCATION:Bloom and Grow\, Koramangala\, Jayanagar\, Bangalore\, India
CATEGORIES:Mixed Media
ATTACH;FMTTYPE=image/jpeg:https://bloomandgrow.in/wp-content/uploads/2019/12/mixed-media-mural.jpeg
END:VEVENT
BEGIN:VEVENT
DTSTART;TZID=Asia/Kolkata:20170129T093000
DTEND;TZID=Asia/Kolkata:20170129T130000
DTSTAMP:20260421T084854
CREATED:20170103T043656Z
LAST-MODIFIED:20170109T114806Z
UID:1466-1485682200-1485694800@bloomandgrow.in
SUMMARY:Reverse Canvas (Mixed Media)
DESCRIPTION:Reverse Canvas – Mixed Media \nArtist- Shilpa Nagaonkar \nLearn to make this beautiful Shabby Chic Wall Art \, we will be working on the reverse side of canvas! \nWe will be learning mixed media techniques using design papers\, chipboard designs\, paper and fabric flowers\, charms\, diecuts\, paints and many more \nDate- 29th January\, 2017\nTime – 9.30am to 1pm\nVenue- Bloom and Grow Studio\, Koramangala\, Bangalore\nFees- 4\,000 (Includes Full Material Kit worth Rs.2000) \nEach participant will make and take home Gorgeous Wall Art Piece (10″ * 8″ Size) and all remaining material from their own kit. \nAll skill levels can join in.\nRegister soon as seats are limited.\nRegister on bloomandgrow.in\nor\nCall/Message – 08105075376\nBloom and Grow-\nEventshshigh- \nFor any further queries/Details pls contact/message: 08105075376 or\n072592 80949 \nFind out more Artwork by Shilpa :\nFacebook- Shilpa Nagaonkar Designs\nInstagram -nagaonkarshilpa
URL:https://bloomandgrow.in/event/reverse-canvas-mixed-media/
LOCATION:Studio Pepperfry\, JP Nagar\, 279\, 100 Feet Road\, 15th Cross\, 5th Phase J.P. Nagar\, Next to Nexa Showroom\, KR Layout\, JP Nagar Phase 6\, JP Nagar\,\, Bangalore\, 560078\, India
CATEGORIES:Mixed Media,Painting
ATTACH;FMTTYPE=image/jpeg:https://bloomandgrow.in/wp-content/uploads/2017/01/facebook_event_1833732386869222.jpg
END:VEVENT
BEGIN:VEVENT
DTSTART;TZID=Asia/Kolkata:20161106T093000
DTEND;TZID=Asia/Kolkata:20161106T113000
DTSTAMP:20260421T084854
CREATED:20161025T123749Z
LAST-MODIFIED:20170418T132141Z
UID:1128-1478424600-1478431800@bloomandgrow.in
SUMMARY:Mixed media on Altered Bag - Workshop for Mom and Kid
DESCRIPTION:Altered Bag Workshop for Parent and child.\nFun filled workshop for art loving parent and Kid (Daughter or Son\, above 6yrs of age) together. We will be altering a 11′ by 11′ Eco friendly Jute bag using various mixed media techniques. \nA 2hour workshop which will teach you how to use stamps\, design papers\, acrylic paints\, watercolors on Jute. Further you will learn how to create layers\, textures and colour composition. \nMaterial will be provided for the workshop \nDate- 6th November’ 2016\, Sunday\ntime- 9.30am to 11.30am\nVenue- Bloom and Grow Studio\, Koramangala\, Bangalore \nFees – Rs.1\,500/- \nAll skill levels can join in. \nYou will need bring …\nSmall and Big Scissors\nSynthetic Brushes size- Round 5 and Flat size 11\nPot to hold water\nCraft Heat Tool or Hair Dryer (must have)\nTissue paper pack (for cleaning)\nWaste cloth \nFor Details/Registrations – contact/message 08105075376 or\n072592 80949\nemail- nagaonkarshilpa@yahoo.com \nView Shilpa’s work at\nFacebook- Shilpa Nagaonkar Designs\nInstagram -nagaonkarshilpa
URL:https://bloomandgrow.in/event/mixed-media-on-altered-bag-workshop-for-mom-and-kid/
LOCATION:Studio Pepperfry\, JP Nagar\, 279\, 100 Feet Road\, 15th Cross\, 5th Phase J.P. Nagar\, Next to Nexa Showroom\, KR Layout\, JP Nagar Phase 6\, JP Nagar\,\, Bangalore\, 560078\, India
CATEGORIES:Classes,Mixed Media,Workshops
ATTACH;FMTTYPE=image/jpeg:https://bloomandgrow.in/wp-content/uploads/2016/10/facebook_event_396970484025264.jpg
END:VEVENT
BEGIN:VEVENT
DTSTART;TZID=UTC:20161105T150000
DTEND;TZID=UTC:20161105T180000
DTSTAMP:20260421T084854
CREATED:20161020T123459Z
LAST-MODIFIED:20170418T132055Z
UID:1076-1478358000-1478368800@bloomandgrow.in
SUMMARY:Mixed media on Vanity
DESCRIPTION:A beautiful dressing room is every girl’s dream. Lit up your dressing area with this must have vanity that will make people envious. It’s a great way to organize accessories\, beauty products and those little nic nacs that we all have ! \nIt also makes for a perfect gift for girl of any age on an occasion like birthday\, baby shower\, Anniversary. \nIn this all inclusive workshop\, we’ll teach you to decorate mini vanity using variety of materials and you get acquainted with mixed media techniques. In the end\, you’ll be a proud maker and owner of a beautiful piece of handcrafted vanity. \nIncluded in the workshop:\n– A mini vanity (mdf material)\n– Paints & brushes\n– gesso\n– mists\n– modelling/ texture paste\n– stencils\n– dressing up a mini mannequin\n– Imported craft papers\n– Variety of embellishments (metal charms\, flowers\, pearls\, resin etc.)\n– Scissors/ Glue/ Tape \nDate – 5th Nov\, 2016\nTime – 3pm-6pm\nFee- Rs 2\,500/-\nConducted by Shubhra Jain
URL:https://bloomandgrow.in/event/mixed-media-vanity/
LOCATION:Bloom & Grow 2nd floor\, 17 D main\, Koramangala 6th block\, Bangalore\, Karnataka\, 560034\, India
CATEGORIES:Classes,Mixed Media,Painting,Workshops
ATTACH;FMTTYPE=image/jpeg:https://bloomandgrow.in/wp-content/uploads/2016/10/14520407_10153726616477131_7916462081015131370_n.jpg
END:VEVENT
END:VCALENDAR