BEGIN:VCALENDAR
VERSION:2.0
PRODID:-//Bloom &amp; Grow - ECPv6.15.20//NONSGML v1.0//EN
CALSCALE:GREGORIAN
METHOD:PUBLISH
X-WR-CALNAME:Bloom &amp; Grow
X-ORIGINAL-URL:https://bloomandgrow.in
X-WR-CALDESC:Events for Bloom &amp; Grow
REFRESH-INTERVAL;VALUE=DURATION:PT1H
X-Robots-Tag:noindex
X-PUBLISHED-TTL:PT1H
BEGIN:VTIMEZONE
TZID:UTC
BEGIN:STANDARD
TZOFFSETFROM:+0000
TZOFFSETTO:+0000
TZNAME:UTC
DTSTART:20230101T000000
END:STANDARD
END:VTIMEZONE
BEGIN:VEVENT
DTSTART;TZID=UTC:20240810T150000
DTEND;TZID=UTC:20240831T180000
DTSTAMP:20260421T085102
CREATED:20240323T104628Z
LAST-MODIFIED:20240726T100254Z
UID:13502-1723302000-1725127200@bloomandgrow.in
SUMMARY:Acrylic Painting - Online Course (Weekend)
DESCRIPTION:Dive into the vibrant world of acrylics with our exclusive 4-Day Acrylic Painting Session. Whether you’re a budding artist eager to explore your creative potential or an experienced painter looking to refine your skills\, this immersive workshop is designed to inspire and ignite your passion for art.\nYou will be able to understand your palette to mixing colors. Experiment with different brushes\, palette knife and learn how to create textures and depth in your art works with acrylic colors. \nMaterials: \n\n\n•Canvas/ Canvas Pad/ Thick Art Sheet (approx 10″ by 12″/ 10” by 14”)\n•Acrylic paints: Tube Colours\n•Brushes\n•Pencil & eraser\n•Water bowl & rough rag \n\n\nTime: 3 pm to 6pm IST\nDays: Saturdays (10th Aug\, 17th Aug\, 24th Aug\, 31st Aug) \nFee: \n\nRs 3000 for the course\nRs 2000 for 2 paintings\nRs 2700 for 3 paintings\nAbout Bloom and Grow: \nBloom & Grow facilitates artist-led art & craft workshops in studios and also\, conducts art-based corporate workshops across India.
URL:https://bloomandgrow.in/event/acrylic-painting-online-course-weekdays/
CATEGORIES:acrylicpainting,Classes,Painting,summer camp,summer camps
ATTACH;FMTTYPE=image/jpeg:https://bloomandgrow.in/wp-content/uploads/2024/03/acrylic.jpg
END:VEVENT
END:VCALENDAR