BEGIN:VCALENDAR
VERSION:2.0
PRODID:-//Bloom &amp; Grow - ECPv6.15.20//NONSGML v1.0//EN
CALSCALE:GREGORIAN
METHOD:PUBLISH
X-ORIGINAL-URL:https://bloomandgrow.in
X-WR-CALDESC:Events for Bloom &amp; Grow
REFRESH-INTERVAL;VALUE=DURATION:PT1H
X-Robots-Tag:noindex
X-PUBLISHED-TTL:PT1H
BEGIN:VTIMEZONE
TZID:UTC
BEGIN:STANDARD
TZOFFSETFROM:+0000
TZOFFSETTO:+0000
TZNAME:UTC
DTSTART:20190101T000000
END:STANDARD
END:VTIMEZONE
BEGIN:VTIMEZONE
TZID:Asia/Kolkata
BEGIN:STANDARD
TZOFFSETFROM:+0530
TZOFFSETTO:+0530
TZNAME:IST
DTSTART:20160101T000000
END:STANDARD
END:VTIMEZONE
BEGIN:VEVENT
DTSTART;TZID=UTC:20200607T150000
DTEND;TZID=UTC:20200607T170000
DTSTAMP:20260421T031627
CREATED:20180510T120208Z
LAST-MODIFIED:20200601T071838Z
UID:4419-1591542000-1591549200@bloomandgrow.in
SUMMARY:Sospeso on Bottle - Online Workshop
DESCRIPTION:Sospeso on Bottle – Online live workshop \nAwaiting a Sospeso workshop? also known as Volume Decoupage. Get introduced to the fundamental techniques of this beautiful craft and add a new dimension to your crafting skills. \nThe paper veil technique would be taught which later on can practically be done on any kind of surface. The technique basically involves heating flat plastic films and making beautiful 3 D shapes out of it. Post the workshop\, you can use the same technique to create sospeso coasters\, photo frames\, wall deco and more. \nMaterials required:\n1. Old bottle\n2. Embossing pad/Old cushioned diary\n3. Wooden embossing tools/Pen with Round ends\n4. Sospeso paper veil +Transparent sheet\n5. Paint Brush\n6. Thread\n7. Fabric glue\n8. Pearls and fillers\n9. Tealight candle\n10. Tweezers(Optional)\n11. Scissors \nDay & Date: Sunday\, 7th June\nTime: 3 pm to 5 pm (IST)\nVenue: Online session on zoom\nFees: Rs 600 per person (Inclusive of GST and convenience charges) \nPayment link: https://rzp.io/l/bWxdbiL\nNote: Once you register you will be added to a whatsapp group for ease of communication with the steps to join in. \nAbout Bloom and Grow: \nBloom & Grow facilitates artist-led art & craft workshops in studios and also\, conducts art based corporate workshops across India. \nTo stay updated with the upcoming sessions\, join WhatsApp group with the link https://chat.whatsapp.com/HKDsGqJSWGgBtDENOcMVea
URL:https://bloomandgrow.in/event/sospeso-on-bottle-online-session/
LOCATION:Online
CATEGORIES:Online/Live Workshops,Sospeso Transparente
ATTACH;FMTTYPE=image/jpeg:https://bloomandgrow.in/wp-content/uploads/2018/05/sospeso-e1590843490293.jpg
END:VEVENT
BEGIN:VEVENT
DTSTART;TZID=Asia/Kolkata:20170416T110000
DTEND;TZID=Asia/Kolkata:20170416T160000
DTSTAMP:20260421T031627
CREATED:20170410T154326Z
LAST-MODIFIED:20170413T091051Z
UID:2395-1492340400-1492358400@bloomandgrow.in
SUMMARY:Sospeso workshop
DESCRIPTION:Sospeso workshop by Payal Kedia\nProducts included\n1. 6 tea coasters ( stand not included)\n2. One photo frame\n3. Embossing pad\n4. Wooden embossing tools\n5. Sospeso paper veil sheets\n6. Paints\,Scissors and candle. \nSpecial Offer!! Complimentary Bottle included!! \nAll materials will be provided along with the tools( you can take them with you ).\nInclusive of take away kit.\nFees 3\,500/-\nVenue: Bloom and Grow \nYou’ll need to bring along your lunch and a carry bag \nRegister – link to be up soon \nFor queries contact 7259422731
URL:https://bloomandgrow.in/event/sospeso-workshop-2/
LOCATION:Studio Pepperfry\, JP Nagar\, 279\, 100 Feet Road\, 15th Cross\, 5th Phase J.P. Nagar\, Next to Nexa Showroom\, KR Layout\, JP Nagar Phase 6\, JP Nagar\,\, Bangalore\, 560078\, India
CATEGORIES:Sospeso Transparente,summer camp,summer camps,Workshops
ATTACH;FMTTYPE=image/jpeg:https://bloomandgrow.in/wp-content/uploads/2017/04/facebook_event_401862340212583.jpg
END:VEVENT
BEGIN:VEVENT
DTSTART;TZID=Asia/Kolkata:20170326T103000
DTEND;TZID=Asia/Kolkata:20170326T133000
DTSTAMP:20260421T031627
CREATED:20170321T070008Z
LAST-MODIFIED:20170405T080910Z
UID:2138-1490524200-1490535000@bloomandgrow.in
SUMMARY:Layered Sospeso workshop
DESCRIPTION:Layered Sospeso Workshop\nA course which is a combination of decoupage and sospeso!!! \nLearn to work with the latest sospeso sheets. Play around with Gesso\, chalk paints\, stamps and stencils. Create beautiful 3D layered flowers!!! Work on a metal bucket… Create a gorgeous home decor item!!\n* Covering basics of Decoupage\n*Colour merging technique\n* The art of layered Sospeso – Embossing\, slitting and arranging \nFees 1\,800/- inclusive of all material\nTiming 10:30 am to 2 pm\nDate 26th March\, 2017\nConducted by Jasmine Siddiqui
URL:https://bloomandgrow.in/event/layered-sospeso-workshop/
LOCATION:Studio Pepperfry\, JP Nagar\, 279\, 100 Feet Road\, 15th Cross\, 5th Phase J.P. Nagar\, Next to Nexa Showroom\, KR Layout\, JP Nagar Phase 6\, JP Nagar\,\, Bangalore\, 560078\, India
CATEGORIES:Classes,Sospeso Transparente
ATTACH;FMTTYPE=image/jpeg:https://bloomandgrow.in/wp-content/uploads/2017/03/facebook_event_1499464846754626.jpg
END:VEVENT
END:VCALENDAR