BEGIN:VCALENDAR
VERSION:2.0
PRODID:-//Bloom &amp; Grow - ECPv6.15.20//NONSGML v1.0//EN
CALSCALE:GREGORIAN
METHOD:PUBLISH
X-ORIGINAL-URL:https://bloomandgrow.in
X-WR-CALDESC:Events for Bloom &amp; Grow
REFRESH-INTERVAL;VALUE=DURATION:PT1H
X-Robots-Tag:noindex
X-PUBLISHED-TTL:PT1H
BEGIN:VTIMEZONE
TZID:UTC
BEGIN:STANDARD
TZOFFSETFROM:+0000
TZOFFSETTO:+0000
TZNAME:UTC
DTSTART:20190101T000000
END:STANDARD
END:VTIMEZONE
BEGIN:VTIMEZONE
TZID:Asia/Kolkata
BEGIN:STANDARD
TZOFFSETFROM:+0530
TZOFFSETTO:+0530
TZNAME:IST
DTSTART:20150101T000000
END:STANDARD
END:VTIMEZONE
BEGIN:VEVENT
DTSTART;TZID=UTC:20200514T160000
DTEND;TZID=UTC:20200514T160000
DTSTAMP:20260421T001430
CREATED:20200509T164708Z
LAST-MODIFIED:20200513T074326Z
UID:10164-1589472000-1589472000@bloomandgrow.in
SUMMARY:Tie and Dye\, Shibori with Natural Material - Online session
DESCRIPTION:Tie and Dye\, Shibori with Natural Material – Live online session \nThis workshop is an experience to come together and to play with living colours and feel the feel the joy of making and spontaneity through ancient textile design techniques. \nEveryday wastes like onion peel\, used tea leaves\, coffee powder\, dried pomegranate peel are some of our magic ingredients used in this process.\nThis workshop gives you hands on experience of playing with ancient textile design techniques and art forms of Shibori (Japan) and Bandhej (India).The participants will pleat\, pluck & twist the fabrics to create their unique explorations and dye their cloth (T-shirt) using the method/techniques taught. \nYou can do a hands-on session with the artist if you do have the following materials ready\, else you could join in for the session and clarify all your queries post the session. We will be creating a whatsapp group for ease of communication and clarification of doubts. \nMaterials required:\n1. PRE washed cloth/ old garment (You can keep multiple small swatches of cloth if you want to try different techniques on each\, provided you have enough dye solution)\n2. Nylon thread (Must)\n3. Binding props ( buttons\, beads\, nails etc )\n4. Pole (optional)\n5. Clear Tape\n6. Random shaped Wood cut pieces (optional)\n7. Large metal clips (optional)\n8. A potful Organic household stuff like onion peel / tea wastes (Must)\n9. Alum (Ideal) or common salt for now.\n10. A vessel to boil the peels\,teawaste etc. \nDate: 14th May\, 2020\nDay: Thursday\nTime: 4 pm (IST)\nFee: Rs 500 per person (Inclusive of GST and Convenience charges)\nVenue: Online session on zoom \nPayment link: https://rzp.io/l/plHBe4Z \nAbout Bloom and Grow: \nBloom & Grow facilitates artist-led art & craft workshops in studios and also\, conducts art based corporate workshops across India. \nTo stay updated with the upcoming sessions\, join WhatsApp group with the link  https://chat.whatsapp.com/HKDsGqJSWGgBtDENOcMVea
URL:https://bloomandgrow.in/event/tie-and-dye-shibori-with-natural-material-online-session/
CATEGORIES:Natural Dyeing,Online/Live Workshops,Shibori
ATTACH;FMTTYPE=image/jpeg:https://bloomandgrow.in/wp-content/uploads/2020/05/HUes-e1589042577775.jpeg
END:VEVENT
BEGIN:VEVENT
DTSTART;TZID=Asia/Kolkata:20191215T143000
DTEND;TZID=Asia/Kolkata:20191215T180000
DTSTAMP:20260421T001430
CREATED:20170108T090808Z
LAST-MODIFIED:20191116T132232Z
UID:1530-1576420200-1576432800@bloomandgrow.in
SUMMARY:Natural dyeing and Block printing - Beginners' workshop in Bangalore
DESCRIPTION:Natural dyeing and block printing – Beginners’ workshop in Bangalore\n\n\n \n\n\nNature is full of colours\, colours so beautiful and captivating that men from early times have tried to capture its ephemeral beauty to decorate themselves and their homes as colour seem to speak the very language of the soul.\n\n\n \n\n\nArt of traditional block printing on to cotton cloth is thought to have existed in India for over 4500 years. Evidence of the Indian craftsman’s unsurpassed skill with printed and dyed cotton cloth appears through out the history. They used complex techniques to achieve desired patterns\, and they changed from place to place depending on the weather conditions and materials available. Each pattern\, motif meant something and spoke of their identity.\n\n\n \n\n\nThe workshop will introduce you to the basics of hand block printing and dyeing using natural materials available around you. It will cover the following :\n\n\n– Understanding natural dyes and its properties\n\n\n– Understanding block printing practices in India\n\n\n– Identifying locally available materials\n\n\n– Preparing the fabric for dyeing and mordanting\n\n\n– Practice dyeing using two local materials\n\n\n– How to extract colours and how to use them as dye and colour paste\n\n\n– Techniques of block printing\, practice printing and printing on scarf to take home\n\n\n– Post treatment of fabric\n\n\n \n\n\nYou will be introduced to the locally available ingredients that can be used for dyeing at the workshop. We will be making samples using two ingredients Manjistha and Katachu. Also you will get to carry Annatto seeds and Palash flowers to try at home.\n\n\n \n\n\nArtist: Prajna Rajanna of MOTIFS OF THE EARTH\n\n\nhttp://www.instagram.com/motifsoftheearth\n\n\n \n\n\nTake Away: You will take home printed scarf and dyed fabric samples along with a ready to start beginner kit.\n\n\n \n\n\nAll materials will be provided at the Venue.\n\n\n \n\n\nDate: 15th December 2019\n\n\nDay: Sunday\n\n\nTiming: 2.30 pm to 6.00 pm\n\n\nFee: Rs 3500\n\n\nBooking Fee: Rs 500 (Balance of Rs 3000 can be paid at venue)\n\n\nVenue: Bloom and Grow\, Koramangala\n\n\n \n\n\nAbout Bloom and Grow:\n\n\n \n\n\nBloom & Grow facilitates artist-led art & craft workshops in studios and also\, conducts art based corporate workshops across India.
URL:https://bloomandgrow.in/event/block-printing-and-dyeing-with-natural-dyes/
LOCATION:Bloom and Grow\, Koramangala\, Jayanagar\, Bangalore\, India
CATEGORIES:Block Printing,Natural Dyeing
ATTACH;FMTTYPE=image/jpeg:https://bloomandgrow.in/wp-content/uploads/2017/01/facebook_event_358604631162364.jpg
END:VEVENT
BEGIN:VEVENT
DTSTART;TZID=Asia/Kolkata:20170514T133000
DTEND;TZID=Asia/Kolkata:20170514T190000
DTSTAMP:20260421T001430
CREATED:20170421T183344Z
LAST-MODIFIED:20170522T090705Z
UID:2436-1494768600-1494788400@bloomandgrow.in
SUMMARY:Natural dyeing with Block printing
DESCRIPTION:Nature is full of colours\, colours so beautiful and captivating that men from early times have tried to capture its ephemeral beauty to decorate themselves and their homes as colour seem to speak the very language of the soul. \nArt of traditional block printing on to cotton cloth is thought to have existed in India for over 4500 years. Evidence of the Indian craftsman’s unsurpassed skill with printed and dyed cotton cloth appears through out the history. They used complex techniques to achieve desired patterns\, and they changed from place to place depending on the weather conditions and materials available. Each pattern\, motif meant something and spoke of their identity. \nThe five hour workshop will introduce you to the basics of hand block printing and dyeing using natural materials available around you.It will cover the following :\n– Understanding natural dyes and its properties\n– Understanding block printing practices in India\n– Identifying locally available materials\n– Preparing the fabric for dyeing and mordanting\n– Practice dyeing using two local materials\n– How to extract colours and how to use them as dye and colour paste\n– Techniques of block printing\, practice printing and printing on scarf to take home\n– Post treatment of fabric \nYou will be introduced to the locally available ingredients that can be used for dyeing at the workshop. We will be making samples using two ingredients Manjista and Katachu. Also you will get to carry Annato seeds and Palash flowers to try at home \nYou will take home printed scarf and dyed fabric samples along with a ready to start beginner kit. \nFee – Rs 3\,000/- including all materials.\nLunch break of half an hour. Pls carry lunch or you can walk over for a bite from the many restaurants closeby. \nArtist: Prajna Rajanna of MOTIFS OF THE EARTH\nhttp://www.instagram.com/motifsoftheearth \nTickets available on:\nBloomandgrown.in
URL:https://bloomandgrow.in/event/natural-dyeing-with-block-printing/
LOCATION:Studio Pepperfry\, JP Nagar\, 279\, 100 Feet Road\, 15th Cross\, 5th Phase J.P. Nagar\, Next to Nexa Showroom\, KR Layout\, JP Nagar Phase 6\, JP Nagar\,\, Bangalore\, 560078\, India
CATEGORIES:Block Printing,Workshops
ATTACH;FMTTYPE=image/jpeg:https://bloomandgrow.in/wp-content/uploads/2017/04/facebook_event_1501523166565082.jpg
END:VEVENT
BEGIN:VEVENT
DTSTART;TZID=Asia/Kolkata:20170211T110000
DTEND;TZID=Asia/Kolkata:20170211T120000
DTSTAMP:20260421T001430
CREATED:20170130T171041Z
LAST-MODIFIED:20170208T120644Z
UID:1825-1486810800-1486814400@bloomandgrow.in
SUMMARY:Coffee Mug Printing
DESCRIPTION:Celebrating Love with a customised mug. \nYou can choose to design your mug from cute designs Lets Ink has come up with\, to celebrate love in all its’ forms. \nLove for your child\, for your parent\, for your spouse\, boyfriend/girlfriend\, for your pet and for yourself too. \nA 1 hour session where you take home 2 self printed mugs and toast to coffee and love. Register with bloomandgrow.in
URL:https://bloomandgrow.in/event/mug-printing-for-love/
LOCATION:Studio Pepperfry\, JP Nagar\, 279\, 100 Feet Road\, 15th Cross\, 5th Phase J.P. Nagar\, Next to Nexa Showroom\, KR Layout\, JP Nagar Phase 6\, JP Nagar\,\, Bangalore\, 560078\, India
CATEGORIES:Mono Printing,Screen Printing,Workshops
ATTACH;FMTTYPE=image/jpeg:https://bloomandgrow.in/wp-content/uploads/2017/01/facebook_event_1183738808388425.jpg
END:VEVENT
BEGIN:VEVENT
DTSTART;TZID=Asia/Kolkata:20161030T103000
DTEND;TZID=Asia/Kolkata:20161030T160000
DTSTAMP:20260421T001430
CREATED:20161021T121110Z
LAST-MODIFIED:20170418T131939Z
UID:1101-1477823400-1477843200@bloomandgrow.in
SUMMARY:Japanese tie and dye with natural dyes
DESCRIPTION:Japanese tie and dye with natural dyes\nKavya will introduce you to organic and natural dyes as well as give you a hands-on experience in Shibori (Japanese form of tie and dye) All the 4 techniques will be taught – Itijame\, Kumo\, Nui and Arashi will be taught during workshop with Natural Dyes. \nYou will take home samples of each of the above techniques. This workshop can be attended by absolute beginners as well. \nWhat is Shibori?\nShibori is a traditional Japanese textile art dating back to the 18th century. The first a design is created and then the cloth is stitched\, bound\, resisted\, wrapped or gathered by hand. Any number of these methods are used on one piece and often involves a dozen different techniques. The cloth is then dyed in natural dyes such as indigo bark\, roots\, leaves\, insects or resins. For each color\, dozens of steps have to be altered\, re-stitched\, gathered etc. and the complicated processes are repeated from start to finish. \nTrainer –\nKavya Aradhya from Mahila designs \nFee – Rs 3\,000 per person. \nRegistrations link to be up soon
URL:https://bloomandgrow.in/event/japanese-tie-and-dye-with-natural-dyes/
LOCATION:Studio Pepperfry\, JP Nagar\, 279\, 100 Feet Road\, 15th Cross\, 5th Phase J.P. Nagar\, Next to Nexa Showroom\, KR Layout\, JP Nagar Phase 6\, JP Nagar\,\, Bangalore\, 560078\, India
CATEGORIES:Classes,Natural Dyeing,Shibori,Textile Printing,Western Vocals
ATTACH;FMTTYPE=image/jpeg:https://bloomandgrow.in/wp-content/uploads/2016/10/facebook_event_312061832485946.jpg
END:VEVENT
END:VCALENDAR